Workbook
Name CCNLCoopCost: 'CCNL-appoggio'!$B$2:$B$18
Name CCNLCoopDes: 'CCNL-appoggio'!$A$2:$A$18
Name CCNLCostoOrarioAltroPersonale2: #REF!
Name CCNLCostoOrarioAltroPersonale3: #REF!
Name CCNLCostoOrarioAltroPesonale1: #REF!
Name CCNLCostoOrarioAltroPesonale1: #REF!
Name CCNLCostoOrarioAltroPesonale2: #REF!
Name CCNLCostoOrarioAltroPesonale2: #REF!
Name CCNLCostoOrarioAltroPesonale3: #REF!
Name CCNLCostoOrarioAltroPesonale3: #REF!
Name CCNLCostoOrarioAmministrativo: #REF!
Name CCNLCostoOrarioAmministrativo: #REF!
Name CCNLCostoOrarioAmministrativo1: #REF!
Name CCNLCostoOrarioAusiliari: #REF!
Name CCNLCostoOrarioAusiliari: #REF!
Name CCNLCostoOrarioCoordinatore: #REF!
Name CCNLCostoOrarioCoordinatore: #REF!
Name CCNLCostoOrarioCuoco: #REF!
Name CCNLCostoOrarioCuoco: #REF!
Name CCNLCostoOrarioEducatori: #REF!
Name CCNLCostoOrarioEducatori: #REF!
Name CCNLEELLCostOrd: 'CCNL-appoggio'!$G$2:$G$24
Name CCNLEELLCostStraord: 'CCNL-appoggio'!$H$2:$H$24
Name CCNLEELLDes: 'CCNL-appoggio'!$F$2:$F$24
Name CostoPastoMassimo: #REF!
Name CostoPastoMassimo: #REF!
Name InfanziaDifferenzaScheda: #REF!
Name InfanziaDifferenzaScheda: #REF!
Name InfanziaParametroCostoPasto: #REF!
Name InfanziaParametroCostoPasto: #REF!
Name infanziaParametroPercentualeCoordinamento: #REF!
Name infanziaParametroPercentualeCoordinamento: #REF!
Name InfanziaParametroPercentualeSpeseGenerali: #REF!
Name InfanziaParametroPercentualeSpeseGenerali: #REF!
Name InfanziaPercentualeAltroPersonale1: #REF!
Name InfanziaPercentualeAltroPersonale1: #REF!
Name InfanziaPercentualeAltroPersonale2: #REF!
Name InfanziaPercentualeAltroPersonale2: #REF!
Name InfanziaPercentualeAltroPersonale3: #REF!
Name InfanziaPercentualeAltroPersonale3: #REF!
Name InfanziaPercentualeMassimaCoordinamento: #REF!
Name InfanziaPercentualeMassimaCoordinamento: #REF!
Name InfaziaPercentualeMassimaSpeseGenerali: #REF!
Name InfaziaPercentualeMassimaSpeseGenerali: #REF!
Name mensilitàAttualiDettaglio: INPUT!#REF!
Name mensilitàPacDettaglio: INPUT!#REF!
Name numeroPasti: #REF!
Name numeroPasti: #REF!
Name oreMassimeServizioOrdinario: #REF!
Name oreMassimeServizioOrdinario: #REF!
Name oreMassimeServizioSabato: #REF!
Name oreMassimeServizioSabato: #REF!
Name oreMinimeServizioOrdinario: #REF!
Name oreMinimeServizioOrdinario: #REF!
Name oreMinimeServizioSabato: #REF!
Name oreMinimeServizioSabato: #REF!
Name oreServizioPacDettaglio: INPUT!$C$55:$C$101
Name ParametroGiorniServizioSettimanali: #REF!
Name ParametroGiorniServizioSettimanali: #REF!
Name ParametroMesiServizio: #REF!

Sheet INPUT
A1: DATI GENEARALI
B2: Regione di appartenenza | C2: Sicilia
B3: Titolo del Progetto | C3: Acquisto di posti-utente in strutture private accreditate
B4: Localizzazione | C4: San Cataldo - facenti parte del Distretto Socio Sanitario n. 11
B5: Soggetto attuatore | C5: Comune di San Cataldo (CL)
B6: R.U.P. | C6: Alaimo Anna Maria
B7: N. telefono del RUP | C7: 0934/511269
B8: Mail del RUP
C11: Dati | D11: Note
B12: Tipologia di Servizio | C12: Nido / Micro-nido
A13: =+INDEX($A$223:$A$230,MATCH(C13,$B$223:$B$230,0)) -> 1 | B13: Servizio | C13: Nido / Micro-nido
A16: DESCRIZIONE DELL'INTERVENTO DA FINANZIARE
B17: Descrizione del servizio | C17: Acquisto di n. 30 posti-utente per il Servizio di Asilo Nido in strutture private autorizzate al servizio secondo gli standard regionali e inserite nel catalogo dell’offerta distrettuale previsto dal “AVVISO PUBBLICO PER L’ISCRIZIONE AL REGISTRO UNICO DISTRETTUALE DEI SOGGETTI ACCREDITATI AD EROGARE PRESTAZIONI E SERVIZI PERSONALIZZATI PER MINORI, ADOLESCENTI, ANZIANI, DISABILI, ADULTI, FAMIGLIE E IMMIGRATI, NELL'AMBITO TERRITORIALE DEI COMUNI DEL DISTRETTO SOCIO SANITARIO N. 11” del distretto D11, gestite da enti del terzo settore. Gli enti gestori dovranno garantire, in osservanza a quanto previsto dal D.P.R.S. 16 maggio 2013 “Nuovi standards strutturali ed organizzativi per i servizi di prima infanzia”, la presenza dei seguenti operatori: n. 4 Educatori, n.3 Ausiliari. Costo mensile per bambino pari ad euro 677,31. Il servizio dovrà essere attivo dalle 08,00 alle 14,00 (6 h/giorno) per 5 giorni alla settimana ( da lunedì a Venerdì) per 11 mesi: Settembre/Dicembre 2023 Gennaio/Luglio 2024 . Nell’intervento viene previsto io pranzo. | AG17: =+C17 -> Acquisto di n. 30 posti-utente per il Servizio di Asilo Nido in strutture private autorizzate al servizio secondo gli standard regionali e inserite nel catalogo dell’offerta distrettuale previsto dal “AVVISO PUBBLICO PER L’ISCRIZIONE AL REGISTRO UNICO DISTRETTUALE DEI SOGGETTI ACCREDITATI AD EROGARE PRESTAZIONI E SERVIZI PERSONALIZZATI PER MINORI, ADOLESCENTI, ANZIANI, DISABILI, ADULTI, FAMIGLIE E IMMIGRATI, NELL'AMBITO TERRITORIALE DEI COMUNI DEL DISTRETTO SOCIO SANITARIO N. 11” del distretto D11, gestite da enti del terzo settore. Gli enti gestori dovranno garantire, in osservanza a quanto previsto dal D.P.R.S. 16 maggio 2013 “Nuovi standards strutturali ed organizzativi per i servizi di prima infanzia”, la presenza dei seguenti operatori: n. 4 Educatori, n.3 Ausiliari. Costo mensile per bambino pari ad euro 677,31. Il servizio dovrà essere attivo dalle 08,00 alle 14,00 (6 h/giorno) per 5 giorni alla settimana ( da lunedì a Venerdì) per 11 mesi: Settembre/Dicembre 2023 Gennaio/Luglio 2024 . Nell’intervento viene previsto io pranzo.
B18: Estremi dell'eventuale regolamentazione a livello di ambito/distretto e/o a livello di Comune | C18: In fase di Elaborazione | AG18: =+C18 -> In fase di Elaborazione
B19: Descrizione dell'eventuale regolamentazione a livello di ambito/distretto e/o a livello di comune | C19: In fase di elaborazione | AG19: =+C19 -> In fase di elaborazione
B20: Estremi del sistema di regolazione della compartecipazione degli utenti | C20: Delibera di Consiglio del Comune di San Cataldo N° 103 del 02/12/2016 | AG20: =+C20 -> Delibera di Consiglio del Comune di San Cataldo N° 103 del 02/12/2016
B21: Descrizione del sistema di regolamentazione della compartecipazione degli utenti | C21: Prevista la compartecipazione economica da parte delle famiglie in relazione alla situazione reddituale del nucleo familiare di riferimento del minore, così come disposto dall’Art. 23 del Regolamento dei Servizi Socio-Assistenziali – del Comune di San Cataldo – Delibera di Consiglio N° 103 del 02/12/2016 – definito ai sensi dell’Art. 1 del D.A. n. 867/S7 del 15/04/2003 e/o s.m.i. – “Accesso agevolato ai servizi – Criteri unificati di valutazione economica” –: “Il servizio sarà gratuito per i soggetti la cui condizione economica complessiva del nucleo familiare di riferimento (ISE) , determinata ai sensi dell’Art. 1 del D.A. n. 867/S7 del 15/04/2003 e/o s.m.i. - Accesso agevolato ai servizi – Criteri unificati di valutazione economica – non supera l’importo annuo del trattamento minimo di pensione INPS per i lavoratori dipendenti adeguato, ove spettante, alle misure fissate dallo art. 38 della Legge n. 488/200, maggiorato: - del 50% nel caso in cui il soggetto richiedente è unico componente il nucleo familiare; - del 100% nel caso di due componenti; - dell'ulteriore 35% per ogni componente minore od adulto oltre il secondo. Per condizioni economiche superiori i soggetti beneficiari possono essere ammessi al servizio previa compartecipazione in misura pari al 5% del costo sostenuto dal comune per ogni € 516,46 superiore al limite per la gratuità”. | AG21: =+C21 -> Prevista la compartecipazione economica da parte delle famiglie in relazione alla situazione reddituale del nucleo familiare di riferimento del minore, così come disposto dall’Art. 23 del Regolamento dei Servizi Socio-Assistenziali – del Comune di San Cataldo – Delibera di Consiglio N° 103 del 02/12/2016 – definito ai sensi dell’Art. 1 del D.A. n. 867/S7 del 15/04/2003 e/o s.m.i. – “Accesso agevolato ai servizi – Criteri unificati di valutazione economica” –: “Il servizio sarà gratuito per i soggetti la cui condizione economica complessiva del nucleo familiare di riferimento (ISE) , determinata ai sensi dell’Art. 1 del D.A. n. 867/S7 del 15/04/2003 e/o s.m.i. - Accesso agevolato ai servizi – Criteri unificati di valutazione economica – non supera l’importo annuo del trattamento minimo di pensione INPS per i lavoratori dipendenti adeguato, ove spettante, alle misure fissate dallo art. 38 della Legge n. 488/200, maggiorato: - del 50% nel caso in cui il soggetto richiedente è unico componente il nucleo familiare; - del 100% nel caso di due componenti; - dell'ulteriore 35% per ogni componente minore od adulto oltre il secondo. Per condizioni economiche superiori i soggetti beneficiari possono essere ammessi al servizio previa compartecipazione in misura pari al 5% del costo sostenuto dal comune per ogni € 516,46 superiore al limite per la gratuità”.
B22: Estremi dell'atto che regola il sistema di accreditamento | C22: Deliberazione del Comitato dei Sindaci - seduta del 31/07/2020 - di cui alla D.D. n° 889 del 11/09/2020 | AG22: =+C22 -> Deliberazione del Comitato dei Sindaci - seduta del 31/07/2020 - di cui alla D.D. n° 889 del 11/09/2020
B23: Descrizione dei requisiti previsti nel sistema di accreditamento | C23: IL “Sistema di Accreditamento”, prevede l’erogazione degli interventi di natura socio-assistenziali mediante buoni di servizio (voucher ) resi attraverso Soggetti del Terzo Settore aventi i requisiti Tecnico-Qualitativi iscritti all’Albo Distrettuale. I Criteri per l’Istituzione del Registro Unico Distrettuale (R.U.D.) degli operatori accreditati per l’erogazione dei servizi socio-assistenziali e socio-educativi con il sistema dell’accreditamento, che garantisce una maggiore collaborazione tra enti pubblici e soggetti no profit e/o del Terzo Settore, nell’ottica di una razionalizzazione delle risorse economiche pubbliche, della valorizzazione dell’apporto delle organizzazioni non profit presenti sul territorio e dell'affermazione del principio della libera scelta da parte degli utenti/referenti familiari. l’iscrizione al Registro Unico Distrettuale (R.U.D.) degli Organismi sopra specificati per l’erogazione, in relazione al target di intervento, dei servizi di: A) Target Anziani: Assistenza Domiciliare Anziani, Centri Diurni Anziani, Pasti a Domicilio, Lavanderia a Domicilio. B) Target Disabili: Assistenza Domiciliare, Assistenza Domiciliare malati oncologici, Centri diurni, Centri di aggregazione, Centro per soggetti con autismo, Servizi di inserimento lavorativo, Gestione progetti personalizzati di assistenza in favore di disabili gravi e/o gravissimi, assistenza all'autonomia ed alla comunicazione scolastica e/o domiciliare, Trasporto disabili; C) Target Minori e Famiglie: Assistenza Domiciliare, Centri di aggregazione giovanile, Servizi integrativi prima infanzia 0/3 anni (varie tipologie), Centri Pronta Accoglienza, Servizi per la famiglia ed Educativa Domiciliare; D) Target Dipendenze, Immigrazione, Emarginazione e Nuova povertà: Assistenza Domiciliare, Servizio Inserimento Lavorativo, Centri Diurni, Centri di pronta accoglienza, Strutture di “ricovero notturno”, Servizi mensa. L’ambito territoriale di attuazione delle prestazioni de quo è costituito dai Comuni facenti parte del Distretto Socio-Sanitario n. 11 che comprende i Comuni di:  San Cataldo  Bompensiere  Marianopoli  Montedoro  Milena  Serradifalco L'iscrizione al Registro Unico Distrettuale non costituisce nessuna garanzia di accesso ai fondi e di svolgimento del servizio. L'avvio di un servizio, per i soggetti accreditati, è subordinato alle condizioni poste da un successivo specifico Avviso di Disponibilità; in tale avviso, a seconda delle specifiche caratteristiche del servizio, potranno essere richiesti ulteriori requisiti di qualificazione tecnica e professionale indispensabili per poter svolgere l'attività, nonché la presentazione dell’Allegato Q - “Requisiti di Qualità”- con la descrizione precisa dei modelli organizzativi, di valutazione, ect , nonché le proposte migliorative offerte senza nessun onere aggiuntivo per il Distretto/Comune. L'avvio effettivo del servizio è, inoltre, subordinato alla sottoscrizione del "Patto di Accreditamento” che definisce il rapporto economico-contrattuale delle parti, le prestazioni da garantire e le modalità organizzative e gestionali per la rendicontazione dei voucher . La sottoscrizione del “Patto di Accreditamento” è vincolata dalla scelta da parte del beneficiario/referente familiare. | AG23: =+C23 -> IL “Sistema di Accreditamento”, prevede l’erogazione degli interventi di natura socio-assistenziali mediante buoni di servizio (voucher ) resi attraverso Soggetti del Terzo Settore aventi i requisiti Tecnico-Qualitativi iscritti all’Albo Distrettuale. I Criteri per l’Istituzione del Registro Unico Distrettuale (R.U.D.) degli operatori accreditati per l’erogazione dei servizi socio-assistenziali e socio-educativi con il sistema dell’accreditamento, che garantisce una maggiore collaborazione tra enti pubblici e soggetti no profit e/o del Terzo Settore, nell’ottica di una razionalizzazione delle risorse economiche pubbliche, della valorizzazione dell’apporto delle organizzazioni non profit presenti sul territorio e dell'affermazione del principio della libera scelta da parte degli utenti/referenti familiari. l’iscrizione al Registro Unico Distrettuale (R.U.D.) degli Organismi sopra specificati per l’erogazione, in relazione al target di intervento, dei servizi di: A) Target Anziani: Assistenza Domiciliare Anziani, Centri Diurni Anziani, Pasti a Domicilio, Lavanderia a Domicilio. B) Target Disabili: Assistenza Domiciliare, Assistenza Domiciliare malati oncologici, Centri diurni, Centri di aggregazione, Centro per soggetti con autismo, Servizi di inserimento lavorativo, Gestione progetti personalizzati di assistenza in favore di disabili gravi e/o gravissimi, assistenza all'autonomia ed alla comunicazione scolastica e/o domiciliare, Trasporto disabili; C) Target Minori e Famiglie: Assistenza Domiciliare, Centri di aggregazione giovanile, Servizi integrativi prima infanzia 0/3 anni (varie tipologie), Centri Pronta Accoglienza, Servizi per la famiglia ed Educativa Domiciliare; D) Target Dipendenze, Immigrazione, Emarginazione e Nuova povertà: Assistenza Domiciliare, Servizio Inserimento Lavorativo, Centri Diurni, Centri di pronta accoglienza, Strutture di “ricovero notturno”, Servizi mensa. L’ambito territoriale di attuazione delle prestazioni de quo è costituito dai Comuni facenti parte del Distretto Socio-Sanitario n. 11 che comprende i Comuni di:  San Cataldo  Bompensiere  Marianopoli  Montedoro  Milena  Serradifalco L'iscrizione al Registro Unico Distrettuale non costituisce nessuna garanzia di accesso ai fondi e di svolgimento del servizio. L'avvio di un servizio, per i soggetti accreditati, è subordinato alle condizioni poste da un successivo specifico Avviso di Disponibilità; in tale avviso, a seconda delle specifiche caratteristiche del servizio, potranno essere richiesti ulteriori requisiti di qualificazione tecnica e professionale indispensabili per poter svolgere l'attività, nonché la presentazione dell’Allegato Q - “Requisiti di Qualità”- con la descrizione precisa dei modelli organizzativi, di valutazione, ect , nonché le proposte migliorative offerte senza nessun onere aggiuntivo per il Distretto/Comune. L'avvio effettivo del servizio è, inoltre, subordinato alla sottoscrizione del "Patto di Accreditamento” che definisce il rapporto economico-contrattuale delle parti, le prestazioni da garantire e le modalità organizzative e gestionali per la rendicontazione dei voucher . La sottoscrizione del “Patto di Accreditamento” è vincolata dalla scelta da parte del beneficiario/referente familiare.
B24: Descrizione delle modalità di controllo dei soggetti accreditati | C24: La Commissione di valutazione ha il compito di esaminare le istanze sia di nuova iscrizione sia di rinnovo all’Albo Distrettuale e di verificare i requisiti organizzativi minimi e i requisiti di qualità soggettiva dei soggetti richiedenti. La commissione è composta da: - n° 2 funzionari dei Servizi Sociali dei Comuni del Distretto; - dal Dirigente del Comune Capofila del Distretto, in qualità di presidente e da un segretario verbalizzante; La Commissione si riunisce per l’esame delle istanze, redigendo apposito verbale e l’elenco dei soggetti da accreditare. Il Dirigente del Comune capofila, con determina dirigenziale approva l’elenco. La Commissione svolge, altresì, funzioni di vigilanza e controllo rispetto:  al mantenimento dei requisiti dei soggetti accreditati;  alla sopravvenienza di condizioni e situazioni che costituiscono causa di esclusione;  agli standard dei servizi e ai relativi obblighi specificati nel presente regolamento. 1. Il Registro Unico Distrettuale è un registro aperto, con la possibilità di presentare l’istanza di accreditamento in ogni momento. Le domande, se idonee, saranno inserite nel RUD entro 30 giorni dalla presentazione; 2. Agli organismi che hanno presentato domanda di accreditamento verrà data comunicazione dell’esito della procedura di iscrizione nell’elenco generale definitivo o del motivato diniego. 3. Il RUD avrà durata annuale (gennaio/dicembre) e pertanto i soggetti già accreditati per l’annualità successiva devono presentare autodichiarazione, di cui all’Allegato A bis, di mantenimento dei requisiti di iscrizione al RUD entro il 30 gennaio di ogni anno; 4. Il R.U.D. è approvato annualmente con Determina Dirigenziale del Responsabile dei Servizi Sociali del Comune capofila e pubblicato all'Albo Pretorio e nell’Area Trasparenza di tutti i Comuni ricadenti nel Distretto n. 11 di San Cataldo. 5. Il R.U.D. potrà essere sottoposto ad aggiornamento periodico nel caso in cui si verifichino nuove iscrizioni, che saranno ratificate con apposito atto dirigenziale; 6. L’accreditamento all’Albo Distrettuale non dà automaticamente diritto alla realizzazione delle prestazioni socio assistenziali per le quali il Soggetto ha richiesto l’accreditamento ma vincolato a quanto esplicitato dall’Art. 13 | AG24: =+C24 -> La Commissione di valutazione ha il compito di esaminare le istanze sia di nuova iscrizione sia di rinnovo all’Albo Distrettuale e di verificare i requisiti organizzativi minimi e i requisiti di qualità soggettiva dei soggetti richiedenti. La commissione è composta da: - n° 2 funzionari dei Servizi Sociali dei Comuni del Distretto; - dal Dirigente del Comune Capofila del Distretto, in qualità di presidente e da un segretario verbalizzante; La Commissione si riunisce per l’esame delle istanze, redigendo apposito verbale e l’elenco dei soggetti da accreditare. Il Dirigente del Comune capofila, con determina dirigenziale approva l’elenco. La Commissione svolge, altresì, funzioni di vigilanza e controllo rispetto:  al mantenimento dei requisiti dei soggetti accreditati;  alla sopravvenienza di condizioni e situazioni che costituiscono causa di esclusione;  agli standard dei servizi e ai relativi obblighi specificati nel presente regolamento. 1. Il Registro Unico Distrettuale è un registro aperto, con la possibilità di presentare l’istanza di accreditamento in ogni momento. Le domande, se idonee, saranno inserite nel RUD entro 30 giorni dalla presentazione; 2. Agli organismi che hanno presentato domanda di accreditamento verrà data comunicazione dell’esito della procedura di iscrizione nell’elenco generale definitivo o del motivato diniego. 3. Il RUD avrà durata annuale (gennaio/dicembre) e pertanto i soggetti già accreditati per l’annualità successiva devono presentare autodichiarazione, di cui all’Allegato A bis, di mantenimento dei requisiti di iscrizione al RUD entro il 30 gennaio di ogni anno; 4. Il R.U.D. è approvato annualmente con Determina Dirigenziale del Responsabile dei Servizi Sociali del Comune capofila e pubblicato all'Albo Pretorio e nell’Area Trasparenza di tutti i Comuni ricadenti nel Distretto n. 11 di San Cataldo. 5. Il R.U.D. potrà essere sottoposto ad aggiornamento periodico nel caso in cui si verifichino nuove iscrizioni, che saranno ratificate con apposito atto dirigenziale; 6. L’accreditamento all’Albo Distrettuale non dà automaticamente diritto alla realizzazione delle prestazioni socio assistenziali per le quali il Soggetto ha richiesto l’accreditamento ma vincolato a quanto esplicitato dall’Art. 13
A27: DIMENSIONE DEI SERVIZI DA ACQUISTARE
B28: Modalità di acquisizione dei servizi | C28: affidamento diretto /trattativa privata
B29: CCNL applicato | C29: CCNL Cooperative
B30: CCNL vigente | C30: da settembre 2020
B33: n. posti utenti da acquistare | C33: 30
B34: di cui
B35: n. posti utenti già acquistati (a.s. 2013/14) | C35: 0 | D35: =+IF(C35>C33,"Non è possibile indicare un numero di posti già acquistati superiore al numero di posti da acquistare","")
B37: distinzione per fasce di età? | C37: No
B38: di cui Lattanti
B39: di cui Semi-Divezzi
B40: di cui Divezzi
B41: =+IF(AND(SUM(C38:C40)<>C33,C37=C192),"Il dettaglio dei posti-utente non corrisponde al totale indicato. Rettificare","")
A44: CARATTERISTICHE DEI SERVIZI DA ACQUISTARE
B45: Orario di partura settimanale | I45: gg. Complessive
B46: lun | C46: mart | D46: merc | E46: gio | F46: ven | G46: sab | H46: dom.
B47: 6 | C47: 6 | D47: 6 | E47: 6 | F47: 6 | I47: =+COUNTIF(B47:H47,">0") -> 5
I48: N.B.: Se il numero di giornate appare evidenziato in rosso, non si stanno rispettando i requisti regionali
B50: mesi di servizio previsti | C50: 11
B51: tariffa media al mese pagata dagli utenti (compartecipazione)
B55: ore di servizio | C55: =+SUM(B47:H47)*C50*4.333 -> 1429.89
...

Sheet SCHEDA DI INTERVENTO
A1: Scheda di intervento Tipologia 2 -Acquisto di posti-utente pre servizi in strutture accreditate
A2: Tipologia di servizio
A3: =+INPUT!C12 -> Nido / Micro-nido
A4: =+INPUT!C13 -> Nido / Micro-nido
A5: A. Dati Identificativi
A6: a. | B6: Titolo del Progetto | E6: =+INPUT!C3 -> Acquisto di posti-utente in strutture private accreditate | AV6: =+E6 -> Acquisto di posti-utente in strutture private accreditate
A7: b. | B7: Localizzazione | E7: =+INPUT!C4 -> San Cataldo - facenti parte del Distretto Socio Sanitario n. 11 | AV7: =+E7 -> San Cataldo - facenti parte del Distretto Socio Sanitario n. 11
A8: c. | B8: Soggetto attuatore | E8: =+INPUT!C5 -> Comune di San Cataldo (CL) | AV8: =+E8 -> Comune di San Cataldo (CL)
A9: d | B9: R.U.P. | E9: =+INPUT!C6 -> Alaimo Anna Maria | AV9: =+E9 -> Alaimo Anna Maria
A10: e. | B10: N. telefono del RUP | E10: =+INPUT!C7 -> 0934/511269 | AV10: =+E10 -> 0934/511269
A11: f | B11: Mail del RUP | E11: =+INPUT!C8 -> 0 | AV11: =+E11 -> 0
A12: g | B12: Importo richiesto | K12: =+INPUT!H149 -> 228784.33
A14: B. Dettaglio dell'intervento e risultati attesi
A15: a. | B15: Descrizione del servizio
E16: =+INPUT!C17 -> Acquisto di n. 30 posti-utente per il Servizio di Asilo Nido in strutture private autorizzate al servizio secondo gli standard regionali e inserite nel catalogo dell’offerta distrettuale previsto dal “AVVISO PUBBLICO PER L’ISCRIZIONE AL REGISTRO UNICO DISTRETTUALE DEI SOGGETTI ACCREDITATI AD EROGARE PRESTAZIONI E SERVIZI PERSONALIZZATI PER MINORI, ADOLESCENTI, ANZIANI, DISABILI, ADULTI, FAMIGLIE E IMMIGRATI, NELL'AMBITO TERRITORIALE DEI COMUNI DEL DISTRETTO SOCIO SANITARIO N. 11” del distretto D11, gestite da enti del terzo settore. Gli enti gestori dovranno garantire, in osservanza a quanto previsto dal D.P.R.S. 16 maggio 2013 “Nuovi standards strutturali ed organizzativi per i servizi di prima infanzia”, la presenza dei seguenti operatori: n. 4 Educatori, n.3 Ausiliari. Costo mensile per bambino pari ad euro 677,31. Il servizio dovrà essere attivo dalle 08,00 alle 14,00 (6 h/giorno) per 5 giorni alla settimana ( da lunedì a Venerdì) per 11 mesi: Settembre/Dicembre 2023 Gennaio/Luglio 2024 . Nell’intervento viene previsto io pranzo. | AV16: =+E16 -> Acquisto di n. 30 posti-utente per il Servizio di Asilo Nido in strutture private autorizzate al servizio secondo gli standard regionali e inserite nel catalogo dell’offerta distrettuale previsto dal “AVVISO PUBBLICO PER L’ISCRIZIONE AL REGISTRO UNICO DISTRETTUALE DEI SOGGETTI ACCREDITATI AD EROGARE PRESTAZIONI E SERVIZI PERSONALIZZATI PER MINORI, ADOLESCENTI, ANZIANI, DISABILI, ADULTI, FAMIGLIE E IMMIGRATI, NELL'AMBITO TERRITORIALE DEI COMUNI DEL DISTRETTO SOCIO SANITARIO N. 11” del distretto D11, gestite da enti del terzo settore. Gli enti gestori dovranno garantire, in osservanza a quanto previsto dal D.P.R.S. 16 maggio 2013 “Nuovi standards strutturali ed organizzativi per i servizi di prima infanzia”, la presenza dei seguenti operatori: n. 4 Educatori, n.3 Ausiliari. Costo mensile per bambino pari ad euro 677,31. Il servizio dovrà essere attivo dalle 08,00 alle 14,00 (6 h/giorno) per 5 giorni alla settimana ( da lunedì a Venerdì) per 11 mesi: Settembre/Dicembre 2023 Gennaio/Luglio 2024 . Nell’intervento viene previsto io pranzo.
A17: b. | B17: =+INPUT!B28 -> Modalità di acquisizione dei servizi
E18: =+INPUT!C28 -> affidamento diretto /trattativa privata | AV18: =+E18 -> affidamento diretto /trattativa privata
I20: Utenti PAC | L20: Risorse PAC
I21: a.s. 23/24 | L21: a.s. 23/24
A22: c.1 | B22: Posti acquistati con il PAC secondo riparto | E22: =+INPUT!C33 -> 30 | H22: di cui | I22: =+INPUT!C33*IF(SUM(INPUT!C107:E107)>0,1,0) -> 30 | L22: =+SUM(INPUT!C118:E118) -> 228784.33
A24: c.2 | B24: di cui posti già acquistati (a.s. 2013/14) | E24: =+INPUT!C35 -> 0
I26: a.s. 23/24
A27: c.3 | B27: Mesi di servizio | E27: =+INPUT!C50 -> 11 | H27: di cui | I27: =+INPUT!C107+INPUT!D107+INPUT!E107 -> 11
A29: c.4 | B29: gg. di servizio settimanali | E29: =+INPUT!I47 -> 5
A31: c.5 | B31: hh. di servizio settimanali | E31: =+SUM(INPUT!B47:H47) -> 30
A33: c.6 | B33: hh. di servizio totali | E33: =+INPUT!C55 -> 1429.89
A36: d. | B36: Estremi dell'eventuale regolamentazione a livello di ambito/distretto e/o a livello di Comune
E37: =+INPUT!C18 -> In fase di Elaborazione | AV37: =+E37 -> In fase di Elaborazione
A38: e. | B38: Descrizione dell'eventuale regolamentazione a livello di ambito/distretto e/o a livello di comune
E39: =+INPUT!C19 -> In fase di elaborazione | AV39: =+E39 -> In fase di elaborazione
A40: f. | B40: Estremi del sistema di regolazione della compartecipazione degli utenti
E41: =+INPUT!C20 -> Delibera di Consiglio del Comune di San Cataldo N° 103 del 02/12/2016 | AV41: =+E41 -> Delibera di Consiglio del Comune di San Cataldo N° 103 del 02/12/2016
A42: g. | B42: Descrizione del sistema di regolamentazione della compartecipazione degli utenti
E43: =+INPUT!C21 -> Prevista la compartecipazione economica da parte delle famiglie in relazione alla situazione reddituale del nucleo familiare di riferimento del minore, così come disposto dall’Art. 23 del Regolamento dei Servizi Socio-Assistenziali – del Comune di San Cataldo – Delibera di Consiglio N° 103 del 02/12/2016 – definito ai sensi dell’Art. 1 del D.A. n. 867/S7 del 15/04/2003 e/o s.m.i. – “Accesso agevolato ai servizi – Criteri unificati di valutazione economica” –: “Il servizio sarà gratuito per i soggetti la cui condizione economica complessiva del nucleo familiare di riferimento (ISE) , determinata ai sensi dell’Art. 1 del D.A. n. 867/S7 del 15/04/2003 e/o s.m.i. - Accesso agevolato ai servizi – Criteri unificati di valutazione economica – non supera l’importo annuo del trattamento minimo di pensione INPS per i lavoratori dipendenti adeguato, ove spettante, alle misure fissate dallo art. 38 della Legge n. 488/200, maggiorato: - del 50% nel caso in cui il soggetto richiedente è unico componente il nucleo familiare; - del 100% nel caso di due componenti; - dell'ulteriore 35% per ogni componente minore od adulto oltre il secondo. Per condizioni economiche superiori i soggetti beneficiari possono essere ammessi al servizio previa compartecipazione in misura pari al 5% del costo sostenuto dal comune per ogni € 516,46 superiore al limite per la gratuità”. | AV43: =+E43 -> Prevista la compartecipazione economica da parte delle famiglie in relazione alla situazione reddituale del nucleo familiare di riferimento del minore, così come disposto dall’Art. 23 del Regolamento dei Servizi Socio-Assistenziali – del Comune di San Cataldo – Delibera di Consiglio N° 103 del 02/12/2016 – definito ai sensi dell’Art. 1 del D.A. n. 867/S7 del 15/04/2003 e/o s.m.i. – “Accesso agevolato ai servizi – Criteri unificati di valutazione economica” –: “Il servizio sarà gratuito per i soggetti la cui condizione economica complessiva del nucleo familiare di riferimento (ISE) , determinata ai sensi dell’Art. 1 del D.A. n. 867/S7 del 15/04/2003 e/o s.m.i. - Accesso agevolato ai servizi – Criteri unificati di valutazione economica – non supera l’importo annuo del trattamento minimo di pensione INPS per i lavoratori dipendenti adeguato, ove spettante, alle misure fissate dallo art. 38 della Legge n. 488/200, maggiorato: - del 50% nel caso in cui il soggetto richiedente è unico componente il nucleo familiare; - del 100% nel caso di due componenti; - dell'ulteriore 35% per ogni componente minore od adulto oltre il secondo. Per condizioni economiche superiori i soggetti beneficiari possono essere ammessi al servizio previa compartecipazione in misura pari al 5% del costo sostenuto dal comune per ogni € 516,46 superiore al limite per la gratuità”.
A44: h. | B44: Estremi dell'atto che regola il sistema di accreditamento
E45: =+INPUT!C22 -> Deliberazione del Comitato dei Sindaci - seduta del 31/07/2020 - di cui alla D.D. n° 889 del 11/09/2020 | AV45: =+E45 -> Deliberazione del Comitato dei Sindaci - seduta del 31/07/2020 - di cui alla D.D. n° 889 del 11/09/2020
A46: i. | B46: Descrizione dei requisiti previsti nel sistema di accreditamento
E47: =+INPUT!C23 -> IL “Sistema di Accreditamento”, prevede l’erogazione degli interventi di natura socio-assistenziali mediante buoni di servizio (voucher ) resi attraverso Soggetti del Terzo Settore aventi i requisiti Tecnico-Qualitativi iscritti all’Albo Distrettuale. I Criteri per l’Istituzione del Registro Unico Distrettuale (R.U.D.) degli operatori accreditati per l’erogazione dei servizi socio-assistenziali e socio-educativi con il sistema dell’accreditamento, che garantisce una maggiore collaborazione tra enti pubblici e soggetti no profit e/o del Terzo Settore, nell’ottica di una razionalizzazione delle risorse economiche pubbliche, della valorizzazione dell’apporto delle organizzazioni non profit presenti sul territorio e dell'affermazione del principio della libera scelta da parte degli utenti/referenti familiari. l’iscrizione al Registro Unico Distrettuale (R.U.D.) degli Organismi sopra specificati per l’erogazione, in relazione al target di intervento, dei servizi di: A) Target Anziani: Assistenza Domiciliare Anziani, Centri Diurni Anziani, Pasti a Domicilio, Lavanderia a Domicilio. B) Target Disabili: Assistenza Domiciliare, Assistenza Domiciliare malati oncologici, Centri diurni, Centri di aggregazione, Centro per soggetti con autismo, Servizi di inserimento lavorativo, Gestione progetti personalizzati di assistenza in favore di disabili gravi e/o gravissimi, assistenza all'autonomia ed alla comunicazione scolastica e/o domiciliare, Trasporto disabili; C) Target Minori e Famiglie: Assistenza Domiciliare, Centri di aggregazione giovanile, Servizi integrativi prima infanzia 0/3 anni (varie tipologie), Centri Pronta Accoglienza, Servizi per la famiglia ed Educativa Domiciliare; D) Target Dipendenze, Immigrazione, Emarginazione e Nuova povertà: Assistenza Domiciliare, Servizio Inserimento Lavorativo, Centri Diurni, Centri di pronta accoglienza, Strutture di “ricovero notturno”, Servizi mensa. L’ambito territoriale di attuazione delle prestazioni de quo è costituito dai Comuni facenti parte del Distretto Socio-Sanitario n. 11 che comprende i Comuni di:  San Cataldo  Bompensiere  Marianopoli  Montedoro  Milena  Serradifalco L'iscrizione al Registro Unico Distrettuale non costituisce nessuna garanzia di accesso ai fondi e di svolgimento del servizio. L'avvio di un servizio, per i soggetti accreditati, è subordinato alle condizioni poste da un successivo specifico Avviso di Disponibilità; in tale avviso, a seconda delle specifiche caratteristiche del servizio, potranno essere richiesti ulteriori requisiti di qualificazione tecnica e professionale indispensabili per poter svolgere l'attività, nonché la presentazione dell’Allegato Q - “Requisiti di Qualità”- con la descrizione precisa dei modelli organizzativi, di valutazione, ect , nonché le proposte migliorative offerte senza nessun onere aggiuntivo per il Distretto/Comune. L'avvio effettivo del servizio è, inoltre, subordinato alla sottoscrizione del "Patto di Accreditamento” che definisce il rapporto economico-contrattuale delle parti, le prestazioni da garantire e le modalità organizzative e gestionali per la rendicontazione dei voucher . La sottoscrizione del “Patto di Accreditamento” è vincolata dalla scelta da parte del beneficiario/referente familiare. | AV47: =+E47 -> IL “Sistema di Accreditamento”, prevede l’erogazione degli interventi di natura socio-assistenziali mediante buoni di servizio (voucher ) resi attraverso Soggetti del Terzo Settore aventi i requisiti Tecnico-Qualitativi iscritti all’Albo Distrettuale. I Criteri per l’Istituzione del Registro Unico Distrettuale (R.U.D.) degli operatori accreditati per l’erogazione dei servizi socio-assistenziali e socio-educativi con il sistema dell’accreditamento, che garantisce una maggiore collaborazione tra enti pubblici e soggetti no profit e/o del Terzo Settore, nell’ottica di una razionalizzazione delle risorse economiche pubbliche, della valorizzazione dell’apporto delle organizzazioni non profit presenti sul territorio e dell'affermazione del principio della libera scelta da parte degli utenti/referenti familiari. l’iscrizione al Registro Unico Distrettuale (R.U.D.) degli Organismi sopra specificati per l’erogazione, in relazione al target di intervento, dei servizi di: A) Target Anziani: Assistenza Domiciliare Anziani, Centri Diurni Anziani, Pasti a Domicilio, Lavanderia a Domicilio. B) Target Disabili: Assistenza Domiciliare, Assistenza Domiciliare malati oncologici, Centri diurni, Centri di aggregazione, Centro per soggetti con autismo, Servizi di inserimento lavorativo, Gestione progetti personalizzati di assistenza in favore di disabili gravi e/o gravissimi, assistenza all'autonomia ed alla comunicazione scolastica e/o domiciliare, Trasporto disabili; C) Target Minori e Famiglie: Assistenza Domiciliare, Centri di aggregazione giovanile, Servizi integrativi prima infanzia 0/3 anni (varie tipologie), Centri Pronta Accoglienza, Servizi per la famiglia ed Educativa Domiciliare; D) Target Dipendenze, Immigrazione, Emarginazione e Nuova povertà: Assistenza Domiciliare, Servizio Inserimento Lavorativo, Centri Diurni, Centri di pronta accoglienza, Strutture di “ricovero notturno”, Servizi mensa. L’ambito territoriale di attuazione delle prestazioni de quo è costituito dai Comuni facenti parte del Distretto Socio-Sanitario n. 11 che comprende i Comuni di:  San Cataldo  Bompensiere  Marianopoli  Montedoro  Milena  Serradifalco L'iscrizione al Registro Unico Distrettuale non costituisce nessuna garanzia di accesso ai fondi e di svolgimento del servizio. L'avvio di un servizio, per i soggetti accreditati, è subordinato alle condizioni poste da un successivo specifico Avviso di Disponibilità; in tale avviso, a seconda delle specifiche caratteristiche del servizio, potranno essere richiesti ulteriori requisiti di qualificazione tecnica e professionale indispensabili per poter svolgere l'attività, nonché la presentazione dell’Allegato Q - “Requisiti di Qualità”- con la descrizione precisa dei modelli organizzativi, di valutazione, ect , nonché le proposte migliorative offerte senza nessun onere aggiuntivo per il Distretto/Comune. L'avvio effettivo del servizio è, inoltre, subordinato alla sottoscrizione del "Patto di Accreditamento” che definisce il rapporto economico-contrattuale delle parti, le prestazioni da garantire e le modalità organizzative e gestionali per la rendicontazione dei voucher . La sottoscrizione del “Patto di Accreditamento” è vincolata dalla scelta da parte del beneficiario/referente familiare.
A48: l. | B48: Descrizione delle modalità di controllo dei soggetti accreditati
E49: =+INPUT!C24 -> La Commissione di valutazione ha il compito di esaminare le istanze sia di nuova iscrizione sia di rinnovo all’Albo Distrettuale e di verificare i requisiti organizzativi minimi e i requisiti di qualità soggettiva dei soggetti richiedenti. La commissione è composta da: - n° 2 funzionari dei Servizi Sociali dei Comuni del Distretto; - dal Dirigente del Comune Capofila del Distretto, in qualità di presidente e da un segretario verbalizzante; La Commissione si riunisce per l’esame delle istanze, redigendo apposito verbale e l’elenco dei soggetti da accreditare. Il Dirigente del Comune capofila, con determina dirigenziale approva l’elenco. La Commissione svolge, altresì, funzioni di vigilanza e controllo rispetto:  al mantenimento dei requisiti dei soggetti accreditati;  alla sopravvenienza di condizioni e situazioni che costituiscono causa di esclusione;  agli standard dei servizi e ai relativi obblighi specificati nel presente regolamento. 1. Il Registro Unico Distrettuale è un registro aperto, con la possibilità di presentare l’istanza di accreditamento in ogni momento. Le domande, se idonee, saranno inserite nel RUD entro 30 giorni dalla presentazione; 2. Agli organismi che hanno presentato domanda di accreditamento verrà data comunicazione dell’esito della procedura di iscrizione nell’elenco generale definitivo o del motivato diniego. 3. Il RUD avrà durata annuale (gennaio/dicembre) e pertanto i soggetti già accreditati per l’annualità successiva devono presentare autodichiarazione, di cui all’Allegato A bis, di mantenimento dei requisiti di iscrizione al RUD entro il 30 gennaio di ogni anno; 4. Il R.U.D. è approvato annualmente con Determina Dirigenziale del Responsabile dei Servizi Sociali del Comune capofila e pubblicato all'Albo Pretorio e nell’Area Trasparenza di tutti i Comuni ricadenti nel Distretto n. 11 di San Cataldo. 5. Il R.U.D. potrà essere sottoposto ad aggiornamento periodico nel caso in cui si verifichino nuove iscrizioni, che saranno ratificate con apposito atto dirigenziale; 6. L’accreditamento all’Albo Distrettuale non dà automaticamente diritto alla realizzazione delle prestazioni socio assistenziali per le quali il Soggetto ha richiesto l’accreditamento ma vincolato a quanto esplicitato dall’Art. 13 | AV49: =+E49 -> La Commissione di valutazione ha il compito di esaminare le istanze sia di nuova iscrizione sia di rinnovo all’Albo Distrettuale e di verificare i requisiti organizzativi minimi e i requisiti di qualità soggettiva dei soggetti richiedenti. La commissione è composta da: - n° 2 funzionari dei Servizi Sociali dei Comuni del Distretto; - dal Dirigente del Comune Capofila del Distretto, in qualità di presidente e da un segretario verbalizzante; La Commissione si riunisce per l’esame delle istanze, redigendo apposito verbale e l’elenco dei soggetti da accreditare. Il Dirigente del Comune capofila, con determina dirigenziale approva l’elenco. La Commissione svolge, altresì, funzioni di vigilanza e controllo rispetto:  al mantenimento dei requisiti dei soggetti accreditati;  alla sopravvenienza di condizioni e situazioni che costituiscono causa di esclusione;  agli standard dei servizi e ai relativi obblighi specificati nel presente regolamento. 1. Il Registro Unico Distrettuale è un registro aperto, con la possibilità di presentare l’istanza di accreditamento in ogni momento. Le domande, se idonee, saranno inserite nel RUD entro 30 giorni dalla presentazione; 2. Agli organismi che hanno presentato domanda di accreditamento verrà data comunicazione dell’esito della procedura di iscrizione nell’elenco generale definitivo o del motivato diniego. 3. Il RUD avrà durata annuale (gennaio/dicembre) e pertanto i soggetti già accreditati per l’annualità successiva devono presentare autodichiarazione, di cui all’Allegato A bis, di mantenimento dei requisiti di iscrizione al RUD entro il 30 gennaio di ogni anno; 4. Il R.U.D. è approvato annualmente con Determina Dirigenziale del Responsabile dei Servizi Sociali del Comune capofila e pubblicato all'Albo Pretorio e nell’Area Trasparenza di tutti i Comuni ricadenti nel Distretto n. 11 di San Cataldo. 5. Il R.U.D. potrà essere sottoposto ad aggiornamento periodico nel caso in cui si verifichino nuove iscrizioni, che saranno ratificate con apposito atto dirigenziale; 6. L’accreditamento all’Albo Distrettuale non dà automaticamente diritto alla realizzazione delle prestazioni socio assistenziali per le quali il Soggetto ha richiesto l’accreditamento ma vincolato a quanto esplicitato dall’Art. 13
...

Sheet esprortazione
D1: Risorse | E1: 2023-2024 - Utenti | I1: 2023-2024 - Risorse | M1: Risorse
A2: Tipo Scheda | B2: Titolo scheda | C2: Tipologia Servizio | D2: 2023 | E2: 2022/23-UtentiMantenuti | F2: 2022/23-UtentiAggiuntivi | G2: 2022/23-UtentiEstensioneOraria | H2: 2022/23-UtentiEstensionePerioro | I2: 2022/23-RisorseMantenuti | J2: 2022/23-RisorseAggiuntivi | K2: 2022/23-RisorseEstensioneOraria | L2: 2022/23-RisorseEstensionePerioro | M2: 2024
A3: 2 | B3: =+'SCHEDA DI INTERVENTO'!E6 -> Acquisto di posti-utente in strutture private accreditate | C3: =+'SCHEDA DI INTERVENTO'!A3 -> Nido / Micro-nido | E3: =+IF('SCHEDA DI INTERVENTO'!I22>0,'SCHEDA DI INTERVENTO'!E24,0) -> 0 | F3: =+'SCHEDA DI INTERVENTO'!I22-esprortazione!E3 -> 30 | I3: =+'SCHEDA DI INTERVENTO'!$L$22/'SCHEDA DI INTERVENTO'!$E$22*E3 -> 0 | J3: =+'SCHEDA DI INTERVENTO'!$L$22/'SCHEDA DI INTERVENTO'!$E$22*F3 -> 228784.33

Sheet CCNL-appoggio
A1: profilo Cooperative | B1: costo | F1: Profilo Enti Locali | G1: costo ordinario | H1: costo - straordinario | K1: da considerare | N1: CCNL di riferimento | O1: EELL | S1: Coperative
A2: A1 | B2: =+SUMPRODUCT(($S$2:$V$2=$N$2)*$S6:$V6) -> 15.72 | D2: A1 | F2: D6 | G2: =+O6 -> 25.06 | H2: =+P6 -> 26.76 | K2: =+IF(INPUT!$C$29=INPUT!$C$190,'CCNL-appoggio'!A2,IF(INPUT!$C$29=INPUT!#REF!,'CCNL-appoggio'!F2,'CCNL-appoggio'!F2)) -> A1 | L2: =+IF(INPUT!$C$29=INPUT!$C$190,'CCNL-appoggio'!B2,IF(INPUT!$C$29="non attivo",'CCNL-appoggio'!G2,'CCNL-appoggio'!H2)) -> 15.72 | N2: =+INPUT!C30 -> da settembre 2020 | O2: alla data di programmazione iniziale | S2: alla data di programmazione iniziale | T2: da novembre 2019 | U2: da aprile 2020 | V2: da settembre 2020
A3: A2 | B3: =+SUMPRODUCT(($S$2:$V$2=$N$2)*$S7:$V7) -> 15.92 | D3: A2 | F3: D5 | G3: =+O7 -> 23.44 | H3: =+P7 -> 25.03 | K3: =+IF(INPUT!$C$29=INPUT!$C$190,'CCNL-appoggio'!A3,IF(INPUT!$C$29=INPUT!#REF!,'CCNL-appoggio'!F3,'CCNL-appoggio'!F3)) -> A2 | L3: =+IF(INPUT!$C$29=INPUT!$C$190,'CCNL-appoggio'!B3,IF(INPUT!$C$29="non attivo",'CCNL-appoggio'!G3,'CCNL-appoggio'!H3)) -> 15.92 | O3: da aprile 2018
A4: B1 | B4: =+SUMPRODUCT(($S$2:$V$2=$N$2)*$S8:$V8) -> 16.73 | D4: B1 | F4: D4 | G4: =+O8 -> 22.44 | H4: =+P8 -> 23.96 | K4: =+IF(INPUT!$C$29=INPUT!$C$190,'CCNL-appoggio'!A4,IF(INPUT!$C$29=INPUT!#REF!,'CCNL-appoggio'!F4,'CCNL-appoggio'!F4)) -> B1 | L4: =+IF(INPUT!$C$29=INPUT!$C$190,'CCNL-appoggio'!B4,IF(INPUT!$C$29="non attivo",'CCNL-appoggio'!G4,'CCNL-appoggio'!H4)) -> 16.73
A5: B1 con i.f. | B5: =+SUMPRODUCT(($S$2:$V$2=$N$2)*$S9:$V9) -> 0 | D5: C1 | F5: D3 | G5: =+O9 -> 21.52 | H5: =+P9 -> 22.98 | K5: =+IF(INPUT!$C$29=INPUT!$C$190,'CCNL-appoggio'!A5,IF(INPUT!$C$29=INPUT!#REF!,'CCNL-appoggio'!F5,'CCNL-appoggio'!F5)) -> B1 con i.f. | L5: =+IF(INPUT!$C$29=INPUT!$C$190,'CCNL-appoggio'!B5,IF(INPUT!$C$29="non attivo",'CCNL-appoggio'!G5,'CCNL-appoggio'!H5)) -> 0 | O5: ordinario | P5: straordinario
A6: C1 | B6: =+SUMPRODUCT(($S$2:$V$2=$N$2)*$S10:$V10) -> 18.02 | D6: C2 | F6: D2 | G6: =+O10 -> 19.63 | H6: =+P10 -> 20.97 | K6: =+IF(INPUT!$C$29=INPUT!$C$190,'CCNL-appoggio'!A6,IF(INPUT!$C$29=INPUT!#REF!,'CCNL-appoggio'!F6,'CCNL-appoggio'!F6)) -> C1 | L6: =+IF(INPUT!$C$29=INPUT!$C$190,'CCNL-appoggio'!B6,IF(INPUT!$C$29="non attivo",'CCNL-appoggio'!G6,'CCNL-appoggio'!H6)) -> 18.02 | N6: D6 | O6: {=+IF($N$2=$O$2,('CCNL EELL'!$J$6:$J$28), ('CCNL EELL 2018'!$J$6:$J$28))} -> 25.06 | P6: {=+IF($N$2=$O$2,('CCNL EELL'!$K$6:$K$28), ('CCNL EELL 2018'!$K$6:$K$28))} -> 26.76 | R6: A1 | S6: {=+TRANSPOSE(ROUND('CCNL cooperative'!B39:R39,2))} -> 14.7 | T6: {=+TRANSPOSE(ROUND('CCNL cooperative (11-19)'!B40:R40,2))} -> 15.26 | U6: {=+TRANSPOSE(ROUND('CCNL cooperative (4-20)'!B40:R40,2))} -> 15.5 | V6: {=+TRANSPOSE(ROUND('CCNL cooperative (9-20)'!B40:R40,2))} -> 15.72
A7: C2 | B7: =+SUMPRODUCT(($S$2:$V$2=$N$2)*$S11:$V11) -> 18.57 | D7: C3/D1 | F7: D1 | G7: =+O11 -> 18.72 | H7: =+P11 -> 19.99 | K7: =+IF(INPUT!$C$29=INPUT!$C$190,'CCNL-appoggio'!A7,IF(INPUT!$C$29=INPUT!#REF!,'CCNL-appoggio'!F7,'CCNL-appoggio'!F7)) -> C2 | L7: =+IF(INPUT!$C$29=INPUT!$C$190,'CCNL-appoggio'!B7,IF(INPUT!$C$29="non attivo",'CCNL-appoggio'!G7,'CCNL-appoggio'!H7)) -> 18.57 | N7: D5 | O7: 23.44 | P7: 25.03 | R7: A2 | S7: 14.9 | T7: 15.46 | U7: 15.71 | V7: 15.92
A8: C3/D1 | B8: =+SUMPRODUCT(($S$2:$V$2=$N$2)*$S12:$V12) -> 19.13 | D8: D2 | F8: C5 | G8: =+O12 -> 19.37 | H8: =+P12 -> 20.68 | K8: =+IF(INPUT!$C$29=INPUT!$C$190,'CCNL-appoggio'!A8,IF(INPUT!$C$29=INPUT!#REF!,'CCNL-appoggio'!F8,'CCNL-appoggio'!F8)) -> C3/D1 | L8: =+IF(INPUT!$C$29=INPUT!$C$190,'CCNL-appoggio'!B8,IF(INPUT!$C$29="non attivo",'CCNL-appoggio'!G8,'CCNL-appoggio'!H8)) -> 19.13 | N8: D4 | O8: 22.44 | P8: 23.96 | R8: B1 | S8: 15.67 | T8: 16.25 | U8: 16.51 | V8: 16.73
A9: C3/D1 con i.p. | B9: =+SUMPRODUCT(($S$2:$V$2=$N$2)*$S13:$V13) -> 19.86 | D9: D3/E1 | F9: C4 | G9: =+O13 -> 18.68 | H9: =+P13 -> 19.94 | K9: =+IF(INPUT!$C$29=INPUT!$C$190,'CCNL-appoggio'!A9,IF(INPUT!$C$29=INPUT!#REF!,'CCNL-appoggio'!F9,'CCNL-appoggio'!F9)) -> C3/D1 con i.p. | L9: =+IF(INPUT!$C$29=INPUT!$C$190,'CCNL-appoggio'!B9,IF(INPUT!$C$29="non attivo",'CCNL-appoggio'!G9,'CCNL-appoggio'!H9)) -> 19.86 | N9: D3 | O9: 21.52 | P9: 22.98 | R9: B1 con i.f. | S9: 16.21 | T9: 0 | U9: 0 | V9: 0
A10: D2 | B10: =+SUMPRODUCT(($S$2:$V$2=$N$2)*$S14:$V14) -> 20.22 | D10: E2 | F10: C3 | G10: =+O14 -> 18.1 | H10: =+P14 -> 19.33 | K10: =+IF(INPUT!$C$29=INPUT!$C$190,'CCNL-appoggio'!A10,IF(INPUT!$C$29=INPUT!#REF!,'CCNL-appoggio'!F10,'CCNL-appoggio'!F10)) -> D2 | L10: =+IF(INPUT!$C$29=INPUT!$C$190,'CCNL-appoggio'!B10,IF(INPUT!$C$29="non attivo",'CCNL-appoggio'!G10,'CCNL-appoggio'!H10)) -> 20.22 | N10: D2 | O10: 19.63 | P10: 20.97 | R10: C1 | S10: 16.89 | T10: 17.5 | U10: 17.78 | V10: 18.02
A11: D2 con i.p. | B11: =+SUMPRODUCT(($S$2:$V$2=$N$2)*$S15:$V15) -> 22.04 | D11: F1 | F11: C2 | G11: =+O15 -> 17.61 | H11: =+P15 -> 18.81 | K11: =+IF(INPUT!$C$29=INPUT!$C$190,'CCNL-appoggio'!A11,IF(INPUT!$C$29=INPUT!#REF!,'CCNL-appoggio'!F11,'CCNL-appoggio'!F11)) -> D2 con i.p. | L11: =+IF(INPUT!$C$29=INPUT!$C$190,'CCNL-appoggio'!B11,IF(INPUT!$C$29="non attivo",'CCNL-appoggio'!G11,'CCNL-appoggio'!H11)) -> 22.04 | N11: D1 | O11: 18.72 | P11: 19.99 | R11: C2 | S11: 17.41 | T11: 18.03 | U11: 18.32 | V11: 18.57
A12: D3/E1 | B12: =+SUMPRODUCT(($S$2:$V$2=$N$2)*$S16:$V16) -> 21.59 | D12: F2 | F12: C1 | G12: =+O16 -> 17.2 | H12: =+P16 -> 18.37 | K12: =+IF(INPUT!$C$29=INPUT!$C$190,'CCNL-appoggio'!A12,IF(INPUT!$C$29=INPUT!#REF!,'CCNL-appoggio'!F12,'CCNL-appoggio'!F12)) -> D3/E1 | L12: =+IF(INPUT!$C$29=INPUT!$C$190,'CCNL-appoggio'!B12,IF(INPUT!$C$29="non attivo",'CCNL-appoggio'!G12,'CCNL-appoggio'!H12)) -> 21.59 | N12: C5 | O12: 19.37 | P12: 20.68 | R12: C3/D1 | S12: 17.94 | T12: 18.58 | U12: 18.87 | V12: 19.13
A13: E2 | B13: =+SUMPRODUCT(($S$2:$V$2=$N$2)*$S17:$V17) -> 24.29 | F13: B7 | G13: =+O17 -> 17.58 | H13: =+P17 -> 18.77 | K13: =+IF(INPUT!$C$29=INPUT!$C$190,'CCNL-appoggio'!A13,IF(INPUT!$C$29=INPUT!#REF!,'CCNL-appoggio'!F13,'CCNL-appoggio'!F13)) -> E2 | L13: =+IF(INPUT!$C$29=INPUT!$C$190,'CCNL-appoggio'!B13,IF(INPUT!$C$29="non attivo",'CCNL-appoggio'!G13,'CCNL-appoggio'!H13)) -> 24.29 | N13: C4 | O13: 18.68 | P13: 19.94 | R13: C3/D1 con i.p. | S13: 18.66 | T13: 19.31 | U13: 19.6 | V13: 19.86
A14: E2 con i.p. | B14: =+SUMPRODUCT(($S$2:$V$2=$N$2)*$S18:$V18) -> 26.42 | F14: B6 | G14: =+O18 -> 16.93 | H14: =+P18 -> 18.08 | K14: =+IF(INPUT!$C$29=INPUT!$C$190,'CCNL-appoggio'!A14,IF(INPUT!$C$29=INPUT!#REF!,'CCNL-appoggio'!F14,'CCNL-appoggio'!F14)) -> E2 con i.p. | L14: =+IF(INPUT!$C$29=INPUT!$C$190,'CCNL-appoggio'!B14,IF(INPUT!$C$29="non attivo",'CCNL-appoggio'!G14,'CCNL-appoggio'!H14)) -> 26.42 | N14: C3 | O14: 18.1 | P14: 19.33 | R14: D2 | S14: 18.97 | T14: 19.64 | U14: 19.95 | V14: 20.22
A15: F1 | B15: =+SUMPRODUCT(($S$2:$V$2=$N$2)*$S19:$V19) -> 27.79 | F15: B5 | G15: =+O19 -> 16.63 | H15: =+P19 -> 17.76 | K15: =+IF(INPUT!$C$29=INPUT!$C$190,'CCNL-appoggio'!A15,IF(INPUT!$C$29=INPUT!#REF!,'CCNL-appoggio'!F15,'CCNL-appoggio'!F15)) -> F1 | L15: =+IF(INPUT!$C$29=INPUT!$C$190,'CCNL-appoggio'!B15,IF(INPUT!$C$29="non attivo",'CCNL-appoggio'!G15,'CCNL-appoggio'!H15)) -> 27.79 | N15: C2 | O15: 17.61 | P15: 18.81 | R15: D2 con i.p. | S15: 20.79 | T15: 21.46 | U15: 21.77 | V15: 22.04
A16: F1 con i.p. | B16: =+SUMPRODUCT(($S$2:$V$2=$N$2)*$S20:$V20) -> 29.01 | F16: B4 | G16: =+O20 -> 16.36 | H16: =+P20 -> 17.47 | K16: =+IF(INPUT!$C$29=INPUT!$C$190,'CCNL-appoggio'!A16,IF(INPUT!$C$29=INPUT!#REF!,'CCNL-appoggio'!F16,'CCNL-appoggio'!F16)) -> F1 con i.p. | L16: =+IF(INPUT!$C$29=INPUT!$C$190,'CCNL-appoggio'!B16,IF(INPUT!$C$29="non attivo",'CCNL-appoggio'!G16,'CCNL-appoggio'!H16)) -> 29.01 | N16: C1 | O16: 17.2 | P16: 18.37 | R16: D3/E1 | S16: 20.27 | T16: 20.97 | U16: 21.3 | V16: 21.59
A17: F2 | B17: =+SUMPRODUCT(($S$2:$V$2=$N$2)*$S21:$V21) -> 32.42 | F17: B3 | G17: =+O21 -> 16.12 | H17: =+P21 -> 17.21 | K17: =+IF(INPUT!$C$29=INPUT!$C$190,'CCNL-appoggio'!A17,IF(INPUT!$C$29=INPUT!#REF!,'CCNL-appoggio'!F17,'CCNL-appoggio'!F17)) -> F2 | L17: =+IF(INPUT!$C$29=INPUT!$C$190,'CCNL-appoggio'!B17,IF(INPUT!$C$29="non attivo",'CCNL-appoggio'!G17,'CCNL-appoggio'!H17)) -> 32.42 | N17: B7 | O17: 17.58 | P17: 18.77 | R17: E2 | S17: 22.87 | T17: 23.62 | U17: 23.98 | V17: 24.29
A18: F2 con i.d. | B18: =+SUMPRODUCT(($S$2:$V$2=$N$2)*$S22:$V22) -> 32.42 | F18: B2 | G18: =+O22 -> 15.5 | H18: =+P22 -> 16.55 | K18: =+IF(INPUT!$C$29=INPUT!$C$190,'CCNL-appoggio'!A18,IF(INPUT!$C$29=INPUT!#REF!,'CCNL-appoggio'!F18,'CCNL-appoggio'!F18)) -> F2 con i.d. | L18: =+IF(INPUT!$C$29=INPUT!$C$190,'CCNL-appoggio'!B18,IF(INPUT!$C$29="non attivo",'CCNL-appoggio'!G18,'CCNL-appoggio'!H18)) -> 32.42 | N18: B6 | O18: 16.93 | P18: 18.08 | R18: E2 con i.p. | S18: 24.99 | T18: 25.75 | U18: 26.11 | V18: 26.42
F19: B1 | G19: =+O23 -> 15.25 | H19: =+P23 -> 16.28 | K19: =+IF(INPUT!$C$29=INPUT!$C$190,'CCNL-appoggio'!A19,IF(INPUT!$C$29=INPUT!#REF!,'CCNL-appoggio'!F19,'CCNL-appoggio'!F19)) -> 0 | L19: =+IF(INPUT!$C$29=INPUT!$C$190,'CCNL-appoggio'!B19,IF(INPUT!$C$29="non attivo",'CCNL-appoggio'!G19,'CCNL-appoggio'!H19)) -> 0 | N19: B5 | O19: 16.63 | P19: 17.76 | R19: F1 | S19: 26.23 | T19: 27.05 | U19: 27.45 | V19: 27.79
F20: A5 | G20: =+O24 -> 15.51 | H20: =+P24 -> 16.56 | K20: =+IF(INPUT!$C$29=INPUT!$C$190,'CCNL-appoggio'!A20,IF(INPUT!$C$29=INPUT!#REF!,'CCNL-appoggio'!F20,'CCNL-appoggio'!F20)) -> 0 | L20: =+IF(INPUT!$C$29=INPUT!$C$190,'CCNL-appoggio'!B20,IF(INPUT!$C$29="non attivo",'CCNL-appoggio'!G20,'CCNL-appoggio'!H20)) -> 0 | N20: B4 | O20: 16.36 | P20: 17.47 | R20: F1 con i.p. | S20: 27.45 | T20: 28.27 | U20: 28.66 | V20: 29.01
F21: A4 | G21: =+O25 -> 15.2 | H21: =+P25 -> 16.23 | K21: =+IF(INPUT!$C$29=INPUT!$C$190,'CCNL-appoggio'!A21,IF(INPUT!$C$29=INPUT!#REF!,'CCNL-appoggio'!F21,'CCNL-appoggio'!F21)) -> 0 | L21: =+IF(INPUT!$C$29=INPUT!$C$190,'CCNL-appoggio'!B21,IF(INPUT!$C$29="non attivo",'CCNL-appoggio'!G21,'CCNL-appoggio'!H21)) -> 0 | N21: B3 | O21: 16.12 | P21: 17.21 | R21: F2 | S21: 30.65 | T21: 31.57 | U21: 32.02 | V21: 32.42
F22: A3 | G22: =+O26 -> 14.93 | H22: =+P26 -> 15.94 | K22: =+IF(INPUT!$C$29=INPUT!$C$190,'CCNL-appoggio'!A22,IF(INPUT!$C$29=INPUT!#REF!,'CCNL-appoggio'!F22,'CCNL-appoggio'!F22)) -> 0 | L22: =+IF(INPUT!$C$29=INPUT!$C$190,'CCNL-appoggio'!B22,IF(INPUT!$C$29="non attivo",'CCNL-appoggio'!G22,'CCNL-appoggio'!H22)) -> 0 | N22: B2 | O22: 15.5 | P22: 16.55 | R22: F2 con i.d. | S22: 30.65 | T22: 31.57 | U22: 32.02 | V22: 32.42
F23: A2 | G23: =+O27 -> 14.62 | H23: =+P27 -> 15.61 | K23: =+IF(INPUT!$C$29=INPUT!$C$190,'CCNL-appoggio'!A23,IF(INPUT!$C$29=INPUT!#REF!,'CCNL-appoggio'!F23,'CCNL-appoggio'!F23)) -> 0 | L23: =+IF(INPUT!$C$29=INPUT!$C$190,'CCNL-appoggio'!B23,IF(INPUT!$C$29="non attivo",'CCNL-appoggio'!G23,'CCNL-appoggio'!H23)) -> 0 | N23: B1 | O23: 15.25 | P23: 16.28
F24: A1 | G24: =+O28 -> 14.43 | H24: =+P28 -> 15.41 | K24: =+IF(INPUT!$C$29=INPUT!$C$190,'CCNL-appoggio'!A24,IF(INPUT!$C$29=INPUT!#REF!,'CCNL-appoggio'!F24,'CCNL-appoggio'!F24)) -> 0 | L24: =+IF(INPUT!$C$29=INPUT!$C$190,'CCNL-appoggio'!B24,IF(INPUT!$C$29="non attivo",'CCNL-appoggio'!G24,'CCNL-appoggio'!H24)) -> 0 | N24: A5 | O24: 15.51 | P24: 16.56
N25: A4 | O25: 15.2 | P25: 16.23
N26: A3 | O26: 14.93 | P26: 15.94
N27: A2 | O27: 14.62 | P27: 15.61
N28: A1 | O28: 14.43 | P28: 15.41

Sheet CCNL cooperative
A1: TipologiaAliquota IRAP | B1: Specifica
A2: Regione | B2: =+INPUT!C2 -> Sicilia
A3: Aliquota Irap Applicata | B3: =+IF(B1="Generale",0.039,INDEX(C47:C50,MATCH(B2,B47:B50,0))) -> 0
A5: Indennità di turno | B5: No
A6: Numero ore annuali lavorate | B6: 1548 | C6: 1548
A9: Livelli | B9: A1 | C9: A2 | D9: B1 | E9: B1 con i.f. | F9: C1 | G9: C2 | H9: C3/D1 | I9: C3/D1 con i.p. | J9: D2 | K9: D2 con i.p. | L9: D3/E1 | M9: E2 | N9: E2 con i.p. | O9: F1 | P9: F1 con i.p. | Q9: F2 | R9: F2 con i.d.
A10: Minimi contr.li conglobati mensili | B10: 1184.19 | C10: 1195.13 | D10: 1250.81 | E10: 1250.81 | F10: 1345.21 | G10: 1385.5 | H10: 1426.41 | I10: 1426.41 | J10: 1504.67 | K10: 1504.67 | L10: 1601.8 | M10: 1728.9 | N10: 1728.9 | O10: 1909.51 | P10: 1909.51 | Q10: 2180.73 | R10: 2180.73
A11: Anzianità (tre scatti) | B11: 34.86 | C11: 40.29 | D11: 48.81 | E11: 48.81 | F11: 55.77 | G11: 58.89 | H11: 61.98 | I11: 61.98 | J11: 69.72 | K11: 69.72 | L11: 80.58 | M11: 94.5 | N11: 94.5 | O11: 118.53 | P11: 118.53 | Q11: 139.44 | R11: 139.44
A12: Indennità professionali | I12: 61.97 | K12: 154.94 | N12: 258.23 | P12: 258.23 | R12: 232.41
A13: Indennità di funzione | E13: 46.48 | M13: 77.47 | O13: 154.94 | Q13: 232.41
A14: Altre indennità | B14: 30.2 | C14: 30.48 | D14: 31.9 | E14: 31.9 | F14: 34.3 | G14: 35.33 | H14: 36.37 | I14: 36.37 | J14: 38.37 | K14: 38.37 | L14: 40.85 | M14: 44.09 | N14: 44.09 | O14: 48.69 | P14: 48.69 | Q14: 55.61 | R14: 55.61
A16: Lordo Mensile | B16: =+SUM(B10:B14) -> 1249.25 | C16: =+SUM(C10:C14) -> 1265.9 | D16: =+SUM(D10:D14) -> 1331.52 | E16: =+SUM(E10:E14) -> 1378 | F16: =+SUM(F10:F14) -> 1435.28 | G16: =+SUM(G10:G14) -> 1479.72 | H16: =+SUM(H10:H14) -> 1524.76 | I16: =+SUM(I10:I14) -> 1586.73 | ... R16: =+SUM(R10:R14) -> 2608.19
A17: Totale Lordo annuo+ 13esima | B17: =+B16*13 -> 16240.25 | C17: =+C16*13 -> 16456.7 | D17: =+D16*13 -> 17309.76 | E17: =+E16*13 -> 17914 | F17: =+F16*13 -> 18658.64 | G17: =+G16*13 -> 19236.36 | H17: =+H16*13 -> 19821.88 | I17: =+I16*13 -> 20627.49 | ... R17: =+R16*13 -> 33906.47
A19: Oneri
A20: Inps (26,90%) | B20: =+B17*0.269 -> 4368.6273 | C20: =+C17*0.269 -> 4426.8523 | D20: =+D17*0.269 -> 4656.3254 | E20: =+E17*0.269 -> 4818.866 | F20: =+F17*0.269 -> 5019.1742 | G20: =+G17*0.269 -> 5174.5808 | H20: =+H17*0.269 -> 5332.0857 | I20: =+I17*0.269 -> 5548.7948 | ... R20: =+R17*0.269 -> 9120.8404
A21: Inail (3%) | B21: =+B17*0.03 -> 487.2075 | C21: =+C17*0.03 -> 493.701 | D21: =+D17*0.03 -> 519.2928 | E21: =+E17*0.03 -> 537.42 | F21: =+F17*0.03 -> 559.7592 | G21: =+G17*0.03 -> 577.0908 | H21: =+H17*0.03 -> 594.6564 | I21: =+I17*0.03 -> 618.8247 | ... R21: =+R17*0.03 -> 1017.1941
A22: Totale oneri | B22: =+B21+B20 -> 4855.8347 | C22: =+C21+C20 -> 4920.5533 | D22: =+D21+D20 -> 5175.6182 | E22: =+E21+E20 -> 5356.286 | F22: =+F21+F20 -> 5578.9334 | G22: =+G21+G20 -> 5751.6716 | H22: =+H21+H20 -> 5926.7421 | I22: =+I21+I20 -> 6167.6195 | ... R22: =+R21+R20 -> 10138.035
A24: TFR | B24: =+B16*0.962962 -> 1202.9803 | C24: =+C16*0.962962 -> 1219.0136 | D24: =+D16*0.962962 -> 1282.2032 | E24: =+E16*0.962962 -> 1326.9616 | F24: =+F16*0.962962 -> 1382.1201 | G24: =+G16*0.962962 -> 1424.9141 | H24: =+H16*0.962962 -> 1468.2859 | I24: =+I16*0.962962 -> 1527.9607 | ... R24: =+R16*0.962962 -> 2511.5879
A25: Rivalutazione T.F.R. (3,302885% ) | B25: =+B24*0.198175 -> 238.40062 | C25: =+C24*0.198175 -> 241.57802 | D25: =+D24*0.198175 -> 254.10061 | E25: =+E24*0.198175 -> 262.97062 | F25: =+F24*0.198175 -> 273.90165 | G25: =+G24*0.198175 -> 282.38236 | H25: =+H24*0.198175 -> 290.97757 | I25: =+I24*0.198175 -> 302.80361 | ... R25: =+R24*0.198175 -> 497.73392
A26: Previdenza complementare (1%) | B26: =+B17*0.01 -> 162.4025 | C26: =+C17*0.01 -> 164.567 | D26: =+D17*0.01 -> 173.0976 | E26: =+E17*0.01 -> 179.14 | F26: =+F17*0.01 -> 186.5864 | G26: =+G17*0.01 -> 192.3636 | H26: =+H17*0.01 -> 198.2188 | I26: =+I17*0.01 -> 206.2749 | ... R26: =+R17*0.01 -> 339.0647
A27: Assistenza Sanitaria Integrativa | B27: 60 | C27: 60 | D27: 60 | E27: 60 | F27: 60 | G27: 60 | H27: 60 | I27: 60 | J27: 60 | K27: 60 | L27: 60 | M27: 60 | N27: 60 | O27: 60 | P27: 60 | Q27: 60 | R27: 60
A29: Costo Annuo | B29: =+B17+B22+B24+B25+B26+B27 -> 22759.868 | C29: =+C17+C22+C24+C25+C26+C27 -> 23062.412 | D29: =+D17+D22+D24+D25+D26+D27 -> 24254.78 | E29: =+E17+E22+E24+E25+E26+E27 -> 25099.358 | F29: =+F17+F22+F24+F25+F26+F27 -> 26140.182 | G29: =+G17+G22+G24+G25+G26+G27 -> 26947.692 | H29: =+H17+H22+H24+H25+H26+H27 -> 27766.104 | I29: =+I17+I22+I24+I25+I26+I27 -> 28892.149 | ... R29: =+R17+R22+R24+R25+R26+R27 -> 47452.891
A30: Indennità di turno | B30: =+IF($B$5="Si",B55,0) -> 0 | C30: =+IF($B$5="Si",C55,0) -> 0 | D30: =+IF($B$5="Si",D55,0) -> 0 | E30: =+IF($B$5="Si",E55,0) -> 0 | F30: =+IF($B$5="Si",F55,0) -> 0 | G30: =+IF($B$5="Si",G55,0) -> 0 | H30: =+IF($B$5="Si",H55,0) -> 0 | I30: =+IF($B$5="Si",I55,0) -> 0 | ... R30: =+IF($B$5="Si",R55,0) -> 0
A32: Totale costo annuo | B32: =+B30+B29 -> 22759.868 | C32: =+C30+C29 -> 23062.412 | D32: =+D30+D29 -> 24254.78 | E32: =+E30+E29 -> 25099.358 | F32: =+F30+F29 -> 26140.182 | G32: =+G30+G29 -> 26947.692 | H32: =+H30+H29 -> 27766.104 | I32: =+I30+I29 -> 28892.149 | ... R32: =+R30+R29 -> 47452.891
A34: Costo orario | B34: =+ROUND(B32/$B$6,2) -> 14.7 | C34: =+ROUND(C32/$B$6,2) -> 14.9 | D34: =+ROUND(D32/$B$6,2) -> 15.67 | E34: =+ROUND(E32/$B$6,2) -> 16.21 | F34: =+ROUND(F32/$B$6,2) -> 16.89 | G34: =+ROUND(G32/$B$6,2) -> 17.41 | H34: =+ROUND(H32/$B$6,2) -> 17.94 | I34: =+ROUND(I32/$B$6,2) -> 18.66 | ... R34: =+ROUND(R32/$B$6,2) -> 30.65
A35: imponibile irap | B35: =+B32-B21-B26 -> 22110.258 | C35: =+C32-C21-C26 -> 22404.144 | D35: =+D32-D21-D26 -> 23562.389 | E35: =+E32-E21-E26 -> 24382.798 | F35: =+F32-F21-F26 -> 25393.836 | G35: =+G32-G21-G26 -> 26178.237 | H35: =+H32-H21-H26 -> 26973.229 | I35: =+I32-I21-I26 -> 28067.049 | ... R35: =+R32-R21-R26 -> 46096.632
A36: imponibile irap orario | B36: =+ROUND(B35/$B$6,2) -> 14.28 | C36: =+ROUND(C35/$B$6,2) -> 14.47 | D36: =+ROUND(D35/$B$6,2) -> 15.22 | E36: =+ROUND(E35/$B$6,2) -> 15.75 | F36: =+ROUND(F35/$B$6,2) -> 16.4 | G36: =+ROUND(G35/$B$6,2) -> 16.91 | H36: =+ROUND(H35/$B$6,2) -> 17.42 | I36: =+ROUND(I35/$B$6,2) -> 18.13 | ... R36: =+ROUND(R35/$B$6,2) -> 29.78
B37: =+B36*0.039 -> 0.55692 | C37: =+C36*0.039 -> 0.56433 | D37: =+D36*0.039 -> 0.59358 | E37: =+E36*0.039 -> 0.61425 | F37: =+F36*0.039 -> 0.6396 | G37: =+G36*0.039 -> 0.65949 | H37: =+H36*0.039 -> 0.67938 | I37: =+I36*0.039 -> 0.70707 | ... R37: =+R36*0.039 -> 1.16142
A38: Irap | B38: =+ROUND(B36*$B$3,2) -> 0 | C38: =+ROUND(C36*$B$3,2) -> 0 | D38: =+ROUND(D36*$B$3,2) -> 0 | E38: =+ROUND(E36*$B$3,2) -> 0 | F38: =+ROUND(F36*$B$3,2) -> 0 | G38: =+ROUND(G36*$B$3,2) -> 0 | H38: =+ROUND(H36*$B$3,2) -> 0 | I38: =+ROUND(I36*$B$3,2) -> 0 | ... R38: =+ROUND(R36*$B$3,2) -> 0
